{"text_format":"1","workbook":"xlsx","n_sheets":3,"sheets":["入力","表示","棚"],"not_rendered":{"charts":0,"images":0,"macros":1,"external_links":0,"defined_names":0,"comments":0,"pivot_tables":0},"unopened":[],"bounds":{"document_bytes":16777216,"sheet_cells":100000,"rows_first":2000,"rows_last":500,"rows_between":2000,"halvings":0,"cell_chars":16384,"cell_head_chars":4096},"cells_cut":0,"cells_raw":0,"read":"whole","date_system":"1900"}

{"sheet":"入力","index":0,"n_rows":8,"n_cols":5,"rows_kept":8,"cut":false,"hidden":false,"merged":[[7,1,7,2]]}
[]
["棚","A-1",null,null,"入庫"]
[null,null,null,null,"出庫"]
["入出庫","出庫"]
[]
["製品",1111111111]
[]
["入庫日時","2016-09-06T22:23:56"]

{"sheet":"表示","index":1,"n_rows":8,"n_cols":10,"rows_kept":8,"cut":false,"hidden":false,"merged":[[2,0,2,1],[2,2,2,3],[2,4,2,5],[2,6,2,7],[2,8,2,9],[0,0,0,1],[0,2,0,3],[0,4,0,5],[0,6,0,7],[0,8,0,9],[6,0,6,1],[6,2,6,3],[6,4,6,5],[6,6,6,7],[6,8,6,9],[4,0,4,1],[4,2,4,3],[4,4,4,5],[4,6,4,7],[4,8,4,9]]}
["A-1",null,"A-2",null,"A-3",null,"A-4",null,"A-5"]
[{"$f":"funcTana(棚!A2)","v":"ﾛｯﾄNO 2222222222\r\n停滞日数 2.50\r\n経過時間 60"},{"$f":"funcTana(棚!B2)","v":"ﾛｯﾄNO 2222222222\r\n停滞日数 2.50\r\n経過時間 60"},{"$f":"funcTana(棚!C2)","v":"ﾛｯﾄNO 3333333333\r\n停滞日数 2.50\r\n経過時間 60"},{"$f":"funcTana(棚!D2)","v":""},{"$f":"funcTana(棚!E2)","v":""},{"$f":"funcTana(棚!F2)","v":""},{"$f":"funcTana(棚!G2)","v":"ﾛｯﾄNO 2222222222\r\n停滞日数 2.50\r\n経過時間 60"},{"$f":"funcTana(棚!H2)","v":""},{"$f":"funcTana(棚!I2)","v":""},{"$f":"funcTana(棚!J2)","v":""}]
["A2-1",null,"A2-2",null,"A2-3",null,"A2-4",null,"A2-5"]
[{"$f":"funcTana(棚!A4)","v":""},{"$f":"funcTana(棚!B4)","v":""},{"$f":"funcTana(棚!C4)","v":"ﾛｯﾄNO 2222222222\r\n停滞日数 2.50\r\n経過時間 60"},{"$f":"funcTana(棚!D4)","v":""},{"$f":"funcTana(棚!E4)","v":"ﾛｯﾄNO 2222222222\r\n停滞日数 2.50\r\n経過時間 60"},{"$f":"funcTana(棚!F4)","v":""},{"$f":"funcTana(棚!G4)","v":""},{"$f":"funcTana(棚!H4)","v":""},{"$f":"funcTana(棚!I4)","v":""},{"$f":"funcTana(棚!J4)","v":""}]
["A3-1",null,"A3-2",null,"A3-3",null,"A3-4",null,"A3-5"]
[{"$f":"funcTana(棚!A6)","v":""},{"$f":"funcTana(棚!B6)","v":""},{"$f":"funcTana(棚!C6)","v":""},{"$f":"funcTana(棚!D6)","v":""},{"$f":"funcTana(棚!E6)","v":""},{"$f":"funcTana(棚!F6)","v":""},{"$f":"funcTana(棚!G6)","v":""},{"$f":"funcTana(棚!H6)","v":""},{"$f":"funcTana(棚!I6)","v":"ﾛｯﾄNO 2222222222\r\n停滞日数 2.50\r\n経過時間 60"},{"$f":"funcTana(棚!J6)","v":""}]
["A4-1",null,"A4-2",null,"A4-3",null,"A4-4",null,"A4-5"]
[{"$f":"funcTana(棚!A8)","v":"ﾛｯﾄNO 2222222222\r\n停滞日数 2.50\r\n経過時間 60"},{"$f":"funcTana(棚!B8)","v":""},{"$f":"funcTana(棚!C8)","v":""},{"$f":"funcTana(棚!D8)","v":""},{"$f":"funcTana(棚!E8)","v":""},{"$f":"funcTana(棚!F8)","v":""},{"$f":"funcTana(棚!G8)","v":""},{"$f":"funcTana(棚!H8)","v":""},{"$f":"funcTana(棚!I8)","v":""},{"$f":"funcTana(棚!J8)","v":""}]

{"sheet":"棚","index":2,"n_rows":8,"n_cols":9,"rows_kept":8,"cut":false,"hidden":false,"merged":[[6,8,6,9],[6,6,6,7],[6,4,6,5],[6,2,6,3],[6,0,6,1],[0,8,0,9],[0,6,0,7],[0,4,0,5],[0,2,0,3],[0,0,0,1],[2,8,2,9],[2,6,2,7],[2,4,2,5],[2,2,2,3],[2,0,2,1],[4,8,4,9],[4,6,4,7],[4,4,4,5],[4,2,4,3],[4,0,4,1]]}
["A-1",null,"A-2",null,"A-3",null,"A-4",null,"A-5"]
["2222222222,2016/09/04 10:00:00","2222222222,2016/09/04 10:00:00","3333333333,2016/09/04 10:00:00",null,null,null,"2222222222,2016/09/04 10:00:00"]
["A2-1",null,"A2-2",null,"A2-3",null,"A2-4",null,"A2-5"]
[null,null,"2222222222,2016/09/04 10:00:00",null,"2222222222,2016/09/04 10:00:00"]
["A3-1",null,"A3-2",null,"A3-3",null,"A3-4",null,"A3-5"]
[null,null,null,null,null,null,null,null,"2222222222,2016/09/04 10:00:00"]
["A4-1",null,"A4-2",null,"A4-3",null,"A4-4",null,"A4-5"]
["2222222222,2016/09/04 10:00:00"]